BEGIN:VCALENDAR
VERSION:2.0
PRODID:-//Australian Society of Travel Writers - ECPv5.0.2//NONSGML v1.0//EN
CALSCALE:GREGORIAN
METHOD:PUBLISH
X-WR-CALNAME:Australian Society of Travel Writers
X-ORIGINAL-URL:https://astw.org.au
X-WR-CALDESC:Events for Australian Society of Travel Writers
BEGIN:VTIMEZONE
TZID:Australia/Brisbane
BEGIN:STANDARD
TZOFFSETFROM:+1000
TZOFFSETTO:+1000
TZNAME:AEST
DTSTART:20200101T000000
END:STANDARD
END:VTIMEZONE
BEGIN:VEVENT
DTSTART;TZID=Australia/Brisbane:20200327T120000
DTEND;TZID=Australia/Brisbane:20200327T140000
DTSTAMP:20200227T031841
CREATED:20191205T042450Z
LAST-MODIFIED:20200224T072515Z
UID:13902-1585310400-1585317600@astw.org.au
SUMMARY:SYDNEY Lunch - TravelCard - 27 March 2020
DESCRIPTION:Please join us for lunch\, proudly presented by TravelCard.\n  \n \n\nStuck in Hawaii and need to get back to work? Travel insurance can help you solve problems that you didn’t know you had.\nJoin TravelCard Real-Time Travel Insurance to discuss the challenges of travel and the solutions of travel insurance.\n\nWhere: Botanic House – Royal Botanic Garden\, Mrs Macquaries Road\, Sydney\nWhen: Friday 27 March 2020\nTime: 12 noon – 2:00pm. Seated for 12:30pm start\nIncludes: Two course meal with wine\, beer and soft drinks\nDietary Requirements: Please advise at time of booking any special dietary requirements.\n\n\nASTW Member Price: $40 incl. GST\nASTW Guest Price: $45 incl. GST\nPayment only accepted by Visa or MasterCard.\nBookings will close on Friday 20 March 2020. Sorry\, late bookings cannot be accepted.\n\n \n
URL:https://astw.org.au/event/sydney-lunch-travelcard-march-2020/
LOCATION:Botanic House\, Mrs Macquaries Road\, Sydney\, NSW\, 2000\, Australia
CATEGORIES:Lunch
ATTACH;FMTTYPE=image/png:https://astw.org.au/wp-content/uploads/2019/12/TravelCard-Logo-200.png
END:VEVENT
BEGIN:VEVENT
DTSTART;TZID=Australia/Brisbane:20200330T120000
DTEND;TZID=Australia/Brisbane:20200330T140000
DTSTAMP:20200227T031841
CREATED:20200224T053224Z
LAST-MODIFIED:20200224T064329Z
UID:14471-1585569600-1585576800@astw.org.au
SUMMARY:PERTH Lunch - Next Story Group & Sage Hotel West Perth - 30 March 2020
DESCRIPTION:Please join us for lunch\, proudly presented by Next Story Group & Sage Hotel West Perth.\n \n\nKick off 2020 in style and come join the team from Sage Hotel West Perth in the surrounds of their heritage-listed Julio’s Italian Restaurant. Meet hotel General Manager\, Graeme Rutherford and Executive Chef\, Simone Ariano\, and find out what exciting developments are in store for Next Story Group in 2020.\n\nWhere: Julio’s – Italian Restaurant\, Sage Hotel West Perth\, 1309 Hay Street\, West Perth\nWhen: Monday 30 March 2020\nTime: 12 noon – 2pm\nIncludes: Two course meal with wine\nDietary Requirements: Please advise at time of booking any special dietary requirements.\nParking: Street parking is available by meter payment. Alternatively a Wilson Parking facility is a couple of minutes away off Outram Street.\n\n\nASTW Member Price: $40 incl. GST\nASTW Guest Price: $45 incl. GST\nPayment only accepted by Visa or MasterCard.\nBookings will close on Friday 20 March 2020. Sorry\, late bookings cannot be accepted.\n\n@sagewestperth \n@juliositalianwestperth \n@nextstorygrp \n\n \n
URL:https://astw.org.au/event/perth-lunch-next-story-group-sage-hotel-west-perth-30-march-2020/
LOCATION:Julio’s Italian Restaurant\, Sage Hotel West Perth\, West Perth\, WA\, Australia
CATEGORIES:Lunch
ATTACH;FMTTYPE=image/jpeg:https://astw.org.au/wp-content/uploads/2020/02/Sage-West-Perth-250.jpg
END:VEVENT
BEGIN:VEVENT
DTSTART;TZID=Australia/Brisbane:20200730T180000
DTEND;TZID=Australia/Brisbane:20200730T220000
DTSTAMP:20200227T031841
CREATED:20200224T034200Z
LAST-MODIFIED:20200224T034200Z
UID:14466-1596132000-1596146400@astw.org.au
SUMMARY:ASTW Trivia Night - 30 July 2020
DESCRIPTION:Save the Date! \nMore details to be announced. \n
URL:https://astw.org.au/event/astw-trivia-night-30-july-2020/
LOCATION:NSW
CATEGORIES:Trivia Night
ATTACH;FMTTYPE=image/png:https://astw.org.au/wp-content/uploads/2019/01/ASTW-Travel-Trivia_300x300.png
END:VEVENT
BEGIN:VEVENT
DTSTART;VALUE=DATE:20200903
DTEND;VALUE=DATE:20200907
DTSTAMP:20200227T031841
CREATED:20191106T034443Z
LAST-MODIFIED:20191106T034443Z
UID:13303-1599091200-1599436799@astw.org.au
SUMMARY:2020 ASTW Convention | The Whitsundays | 3-6 September 2020
DESCRIPTION:Save the date!\nMore details to be released early 2020. \n \n
URL:https://astw.org.au/event/2020-astw-convention-the-whitsundays-3-6-september-2020/
LOCATION:NSW
CATEGORIES:Convention
ATTACH;FMTTYPE=image/png:https://astw.org.au/wp-content/uploads/2019/11/Whitsundays-reef-stack-teal-resize.png
END:VEVENT
END:VCALENDAR